BEGIN:VCALENDAR
VERSION:2.0
PRODID:-//NEU - LAG Spiel &amp; Theater - ECPv6.15.20//NONSGML v1.0//EN
CALSCALE:GREGORIAN
METHOD:PUBLISH
X-WR-CALNAME:NEU - LAG Spiel &amp; Theater
X-ORIGINAL-URL:https://lagstb.de
X-WR-CALDESC:Veranstaltungen für NEU - LAG Spiel &amp; Theater
REFRESH-INTERVAL;VALUE=DURATION:PT1H
X-Robots-Tag:noindex
X-PUBLISHED-TTL:PT1H
BEGIN:VTIMEZONE
TZID:UTC
BEGIN:STANDARD
TZOFFSETFROM:+0000
TZOFFSETTO:+0000
TZNAME:UTC
DTSTART:20240101T000000
END:STANDARD
END:VTIMEZONE
BEGIN:VEVENT
DTSTART;TZID=UTC:20251121T173000
DTEND;TZID=UTC:20270425T163000
DTSTAMP:20260422T142434
CREATED:20240810T161859Z
LAST-MODIFIED:20251014T080454Z
UID:1258-1763746200-1808670600@lagstb.de
SUMMARY:Start Grundlagenbildung Theaterpädagogik
DESCRIPTION:Start Grundlagenbildung Theaterpädagogik \nTheaterpädagogik schafft künstlerisch unmittelbar fehlerfreundliche Freiräume und verbindet Menschen zum kollektiven Arbeiten. In der Weiterbildung werden Grundlagen vermittelt\, um Prozesse selbstwirksam und gestalterisch zu leiten. \nInfos zur Grundlagenbildung: Grundlagenbildung Theaterpädagogik \n 
URL:https://lagstb.de/event/grundlagenbildung-theaterpaedagogik-2/
LOCATION:JuKuZ PUMPE\, Lützowstraße 42\, Berlin\, Berlin\, 10785
CATEGORIES:Archiv,Coaching
ATTACH;FMTTYPE=image/jpeg:https://lagstb.de/wp-content/uploads/2023/03/P1001676-scaled.jpg
ORGANIZER;CN="LAG Spiel & Theater Berlin e.V.":MAILTO:kontakt@lagstb.de
END:VEVENT
BEGIN:VEVENT
DTSTART;TZID=UTC:20260604T170000
DTEND;TZID=UTC:20260604T200000
DTSTAMP:20260422T142434
CREATED:20251223T074746Z
LAST-MODIFIED:20260331T165321Z
UID:1765-1780592400-1780603200@lagstb.de
SUMMARY:Spieltreff – Theaterpädagogischer Austausch
DESCRIPTION:Thema des Abends: Nutzung von Gesellschaftsspielen im theaterpädagogischen Kontext \nDer „Spieltreff“ ist ein regelmäßiger theaterpädagogischer Netzwerk-Abend für Theaterpädagog*innen\, die Übungen oder Methoden ausprobieren\, sich kennenlernen und miteinander in den Austausch gehen wollen.\nWir treffen uns an einem Abend im Monat von 17:00 – 20:00 Uhr (Terminänderungen können vorkommen) \nEine Person wird den Startimpuls an dem Abend geben\, indem sie einen spielerischen Input zu dem angekündigten Thema anleitet\, danach können alle Teilnehmenden eigene Übungen zum Thema beisteuern\, bzw. zu einem gerade laufenden Projekt ausprobieren. Durch Input und das direkte Feedback werden neue Impulse für die Arbeit gefunden und Synergien genutzt. Nach 1-2 Stunden gehen wir dann in den gemütlichen Teil des Austauschs und Netzwerkens über und sitzen bei Tee und Keksen zusammen\, erzählen uns aus der Praxis\, stellen Fragen in die Runde\, schließen neue Kontakte und sehen bekannte Kolleg*innen wieder. So nehmen wir alle erfrischt einen kleinen Rucksack voller neuer Übungen mit nach Hause.\nDie Teilnehmenden zahlen dafür einen Unkostenbeitrag von 15\,- € für Raum\, Orga\, Snacks.\n\nOrganisatorin: Tine Lechner \n  \n\n\nAnmelden: Per Mail an info@lagstb.de bitte mindestens 5 Tage vorher  anmelden! \n\nUnkostenbeitrag von 15\,-€ für Raum und Verpflegung in bar mitbringen oder auf das Konto der LAG überweisen. \nLAG Spiel & Theater Berlin e.V.\n\nIBAN: DE03 3702 0500 0003 1453 03 \nBetreff: „Spieltreff am [Datum]“\n \nWeitere Infos: https://lagstb.de/spieltreff-theaterpaedagogischer-austausch/
URL:https://lagstb.de/event/spieltreff-theaterpaedagogischer-austausch-23/
LOCATION:LAG Spiel & Theater Berlin e.V.\, Vorarlberger Damm 1\, Berlin\, Berlin\, 12157
CATEGORIES:Archiv,Netzwerken,Weiterbildung
ATTACH;FMTTYPE=image/jpeg:https://lagstb.de/wp-content/uploads/2024/09/Handpuppen-treffen.jpg
ORGANIZER;CN="LAG Spiel & Theater Berlin e.V.":MAILTO:kontakt@lagstb.de
END:VEVENT
BEGIN:VEVENT
DTSTART;TZID=UTC:20260620T100000
DTEND;TZID=UTC:20260621T150000
DTSTAMP:20260422T142434
CREATED:20250918T123922Z
LAST-MODIFIED:20250918T123922Z
UID:1685-1781949600-1782054000@lagstb.de
SUMMARY:Wochenend-Theaterkurs am Meer zu "Sommerlieben"
DESCRIPTION:Info: Veranstaltung eines LAG-Mitglieds \nVeranstalter*in: Sarah Bansemer – Theaterkapitänin \nFür alle\, die mal ein Wochenende lang entspannt an der Küste ins Theaterspiel eintauchen möchten\, gibt es am 20./21. Juni 2026 wieder einen Theaterkurs am Meer\, direkt in einem Seminarraum in der Jugendherberge Warnemünde\, in unmittelbarer Strandnähe.\nIm Frühsommer 2026 geht es beim Theaterkurs um die Novelle “Sommerlieben” von Hedwig Dohm. Die Geschichte spielt Anfang des 20. Jahrhunderts an der Ostsee auf Usedom\, wo die Ich-Erzählerin Marie-Luise mit ihrem Neffen und ihrer Nichte die Sommerfrische verbringt. Dabei beobachtet sie die anderen Sommergäste\, ärgert sich über ihre Mitmenschen und deren Piefigkeit\, zeigt Charakterstärke sowie ein emanzipiertes Wesen\, und schreibt immer wieder lange Briefe an den Vater der beiden Kinder …\nAn diesem Wochenende lernen die Teilnehmenden die Geschichte und die Figuren in verschiedenen Theaterübungen und -spielen kennen. Gemeinsam werden Elemente und Szenen aus „Sommerlieben“ gespielt\, adaptiert\, verändert und für eigene Geschichten genutzt. Wie immer stehen auch besonders die Themen der Geschichte im Fokus\, wie Tourismus\, Familie\, Kindheit\, die Rolle der Frau\, Emanzipation\, Bildung und natürlich die Liebe. \nWenn das Wetter es zulässt\, finden auch Übungen am Strand statt. Ihr braucht keinerlei Theatererfahrung\, Anfänger*innen sind jederzeit willkommen. \nKurszeiten: Samstag 10:00-17:00 Uhr\, Sonntag 10:00-15:00 Uhr (inkl. Pausen) \nTeilnahmegebühr:\nSoziales Preismodell mit drei Preisstufen:\n1. 80 € (inkl. MwSt.)\n2. 150 € (inkl. MwSt.)\n3. 190 € (inkl. MwSt.)\nDer mittlere Betrag von 150 € ist der Standardpreis\, der vorher der allgemeine Preis für die Theaterwochenenden war. Wenn ihr euch unsicher seid\, könnt ihr diesen auswählen.\nDer höhere Betrag von 190 € ist als Unterstützerpreis gedacht\, für diejenigen\, die Lust und die Möglichkeit haben\, andere Teilnehmende finanziell zu unterstützen.\nDer niedrigere Betrag von 80 € soll eine Teilnahme bei geringerem Einkommen ermöglichen.\nWenn ihr euch per Email für den Kurs anmeldet\, gebt die Preisstufe (1\, 2 oder 3) an\, die ihr wählt. Nachweise für eure finanzielle Situation braucht es nicht. \nDie Teilnahmegebühr gilt nur für den Wochenendkurs. Unterkunft\, Transport und Verpflegung sind nicht in den Kosten enthalten und müssen selbst organisiert werden. Als Hilfe finden sich auf diesem Padlet Tipps zu Unterkünften\, Gastronomie und Kultur:\nhttps://padlet.com/sarahbansemer/theaterwochenende_meer \nHINWEIS: Damit auch Menschen mit Vorerkrankungen und besonderem Schutzbedürfnis teilnehmen können\, bitte nur teilnehmen\, wenn keine Erkältungssymptome (Husten\, Schnupfen\, Halsschmerzen\, Kopfschmerzen\, Gliederschmerzen\, erhöhte Temperatur etc.) vorliegen.\nTeilnahme mit Maske ist selbstverständlich möglich.\nBei einer rechtzeitigen Absage ist eine Gutschrift oder Rückzahlung möglich\, siehe Erstattungsfristen in den AGB bei Anmeldung. \nTeilnahme-Voraussetzungen:\n– Mindestalter von 18 Jahren\n– Beachtung der Hygienemaßnahmen (s. Hinweis oben)\n– Selbstorganisation von An-/Abreise und Unterkunft \nAlle Infos zur Teilnahme und Anmeldung\, sowie Termine für weitere Theaterwochenenden findet ihr hier:\nhttps://www.sarah-bansemer.de/kurseworkshops/kurse
URL:https://lagstb.de/event/wochenend-theaterkurs-am-meer-zu-sommerlieben/
LOCATION:Seminarraum Jugendherberge Warnemünde\, Parkstraße 47\, Rostock\, Mecklenburg-Vorpommern\, 18119\, Deutschland
CATEGORIES:Archiv,Coaching
ATTACH;FMTTYPE=image/jpeg:https://lagstb.de/wp-content/uploads/2025/09/sommerlieben_buch_theaterWE-scaled.jpeg
ORGANIZER;CN="Sarah Bansemer %E2%80%93 Theaterkapit%C3%A4nin":MAILTO:kontakt@sarah-bansemer.de
END:VEVENT
BEGIN:VEVENT
DTSTART;TZID=UTC:20260626T173000
DTEND;TZID=UTC:20260626T220000
DTSTAMP:20260422T142434
CREATED:20250915T143425Z
LAST-MODIFIED:20250915T151820Z
UID:1650-1782495000-1782511200@lagstb.de
SUMMARY:Sommerfest der LAG Spiel & Theater Berlin e.V.
DESCRIPTION:Sommerfest der LAG Spiel & Theater Berlin e.V. \nLiebe Mitstreiter*innen und Mitglieder\, \nwir wollen mit euch feiern!\nAm 26. Juni 2026 ab 17:30 Uhr heißen wir euch im Hof des JugendKulturZentrums PUMPE willkommen. Bei kühlen Getränken und Snacks wollen wir uns bei unseren aktiven Mitgliedern bedanken\, uns mit bekannten und neuen Menschen vernetzen\, euch unsere aktuellen Veranstaltungsformate vorstellen und miteinander ins Gespräch kommen. Und natürlich haben wir auch erfrischende Spiele und Musik dabei. Menschen mit Kindern können diese gerne mitbringen. \nWir freuen uns auf ein Wiedersehen\, inspirierenden Austausch und sommerliche Abendstunden mit euch! \nDie Teilnahme ist kostenlos\, die Getränke-Verpflegung läuft auf Spendenbasis. Bitte habt dafür ein bißchen Bargeld dabei.\nBeiträge für’s Buffet sind willkommen.:) Bitte bringt nur Fingerfood\, den man ohne Besteck und Geschirr essen kann.\nWenn ihr dabei sein möchtet meldet euch bitte kurz per Email mit dem Betreff „Sommerfest“ an\, über info@lagstb.de
URL:https://lagstb.de/event/sommerfest-der-lag-spiel-theater-berlin-e-v-2/
LOCATION:JuKuZ PUMPE\, Lützowstraße 42\, Berlin\, Berlin\, 10785
CATEGORIES:Archiv,Coaching
ATTACH;FMTTYPE=image/jpeg:https://lagstb.de/wp-content/uploads/2025/04/pumpe_rote_ecke.jpg
ORGANIZER;CN="LAG Spiel & Theater Berlin e.V.":MAILTO:kontakt@lagstb.de
END:VEVENT
END:VCALENDAR