BEGIN:VCALENDAR
VERSION:2.0
PRODID:-//NEU - LAG Spiel &amp; Theater - ECPv6.15.20//NONSGML v1.0//EN
CALSCALE:GREGORIAN
METHOD:PUBLISH
X-WR-CALNAME:NEU - LAG Spiel &amp; Theater
X-ORIGINAL-URL:https://lagstb.de
X-WR-CALDESC:Veranstaltungen für NEU - LAG Spiel &amp; Theater
REFRESH-INTERVAL;VALUE=DURATION:PT1H
X-Robots-Tag:noindex
X-PUBLISHED-TTL:PT1H
BEGIN:VTIMEZONE
TZID:UTC
BEGIN:STANDARD
TZOFFSETFROM:+0000
TZOFFSETTO:+0000
TZNAME:UTC
DTSTART:20240101T000000
END:STANDARD
END:VTIMEZONE
BEGIN:VEVENT
DTSTART;TZID=UTC:20251121T173000
DTEND;TZID=UTC:20270425T163000
DTSTAMP:20260422T132529
CREATED:20240810T161859Z
LAST-MODIFIED:20251014T080454Z
UID:1258-1763746200-1808670600@lagstb.de
SUMMARY:Start Grundlagenbildung Theaterpädagogik
DESCRIPTION:Start Grundlagenbildung Theaterpädagogik \nTheaterpädagogik schafft künstlerisch unmittelbar fehlerfreundliche Freiräume und verbindet Menschen zum kollektiven Arbeiten. In der Weiterbildung werden Grundlagen vermittelt\, um Prozesse selbstwirksam und gestalterisch zu leiten. \nInfos zur Grundlagenbildung: Grundlagenbildung Theaterpädagogik \n 
URL:https://lagstb.de/event/grundlagenbildung-theaterpaedagogik-2/
LOCATION:JuKuZ PUMPE\, Lützowstraße 42\, Berlin\, Berlin\, 10785
CATEGORIES:Archiv,Coaching
ATTACH;FMTTYPE=image/jpeg:https://lagstb.de/wp-content/uploads/2023/03/P1001676-scaled.jpg
ORGANIZER;CN="LAG Spiel & Theater Berlin e.V.":MAILTO:kontakt@lagstb.de
END:VEVENT
BEGIN:VEVENT
DTSTART;TZID=UTC:20260314T110000
DTEND;TZID=UTC:20260314T160000
DTSTAMP:20260422T132529
CREATED:20260207T140732Z
LAST-MODIFIED:20260207T140732Z
UID:1775-1773486000-1773504000@lagstb.de
SUMMARY:Basiswerkstatt / Infotermin Aufbaukurs Theaterpädagogik
DESCRIPTION:Basiswerkstatt zur neuen Aufbauweiterbildung Theaterpädagogik BuT\, die am 18. April 2026 startet. \nIm Aufbaukurs fokussieren wir sowohl die zeitgenössische Theaterpädagogik als auch bewährte Grundlagentechniken und greifen aktuelle Strömungen im Bereich der darstellenden Kunst auf. Fünf Module bieten den Rahmen für persönliche Weiterentwicklung und Professionalisierung. \nBeim Infotermin stellen die leitenden Dozent*innen über theaterpraktische Übungen die Aufbauweiterbildung vor und beantworten Fragen der Interessent*innen. \nSamstag\, 14.03.2026 – 11:00-16:00 Uhr\nPHYNIXtanzt\, Hasenheide 54\, 10967 Berlin\nTeilnahmebetrag: 55 € \nWenn ihr beim Termin dabei sein möchtet\, meldet euch mit eurem Wunschtermin per Mail an info@theatralis.de.\nDie Teilnahme an einer Basiswerkstatt ist Voraussetzung für die Bewerbung zur Teilnahme an der Aufbauweiterbildung. \nAlle Infos zur Weiterbildung: https://lagstb.de/grundlagenbildung-theaterpaedagogik/ \n 
URL:https://lagstb.de/event/basiswerkstatt-infotermin-aufbaukurs-theaterpaedagogik-4/
LOCATION:PhynixTanzt\, Hasenheide 54\, (Eingang zwischen 2. Und 3. Hof)\, Berlin\, Berlin\, 10965\, Deutschland
CATEGORIES:Archiv,Coaching
ATTACH;FMTTYPE=image/jpeg:https://lagstb.de/wp-content/uploads/2022/12/aufbau_abschluss.jpg
ORGANIZER;CN="LAG Spiel & Theater Berlin e.V.":MAILTO:kontakt@lagstb.de
END:VEVENT
END:VCALENDAR